BEGIN:VCALENDAR
VERSION:2.0
PRODID:-//Contratero//ES
CALSCALE:GREGORIAN
METHOD:PUBLISH
BEGIN:VEVENT
UID:7188/2025 PASS MIXTO SER-SUM@contratero.es
DTSTAMP:20260423T101528Z
DTSTART:20251001T235959
DTEND:20251002T005959
SUMMARY:Cierre: Suministro\, implantación y mantenimiento de un sof
DESCRIPTION:Suministro\, implantación y mantenimiento de un software de gestión integral de PRL que englobe las especialidades técnicas: Seguridad en el trabajo\, higiene industrial y ergonomía y psicosociología ap...\\n\\nOrganismo: Alcaldía del Ayuntamiento de Huesca\\n\\nVer en Contratero: https://contratero.es/contracts/7188/2025 PASS MIXTO SER-SUM
URL:https://contratero.es/contracts/7188/2025 PASS MIXTO SER-SUM
STATUS:CONFIRMED
BEGIN:VALARM
TRIGGER:-P1D
ACTION:DISPLAY
DESCRIPTION:Recordatorio: Suministro\, implantación y man
END:VALARM
END:VEVENT
END:VCALENDAR